BEGIN:VCALENDAR
VERSION:2.0
PRODID:-//pretix//pretix.eu//
BEGIN:VEVENT
UID:pretix-feogmbh-fonin25-0@tickets.feo.gmbh
DTSTART;VALUE=DATE:20251210
DTEND;VALUE=DATE:20251211
DESCRIPTION:Tickets: https://tickets.feo.gmbh/fonin25/\nVeranstalter: FEO G
 esellschaft für Fortbildungs- und Eventorganisation mbH
DTSTAMP:20260421T094105Z
LOCATION:Universitätsklinikum Würzburg\, Hörsaal Neurologische Klinik\, 
 Josef-Schneider Str. 11   |   97080 Würzburg
SUMMARY:Forum Neuroimmunologie Nordbayern 2025 - Speaker Tour
END:VEVENT
END:VCALENDAR
